BEGIN:VCALENDAR
VERSION:2.0
PRODID:-//Plone.org//NONSGML plone.app.event//EN
X-WR-TIMEZONE:America/Sao_Paulo
BEGIN:VEVENT
SUMMARY:Desfiles da disciplina Pesquisa de Moda II do Curso de Design de M
 oda em [ Auditorio A102 do Cad 2 Auditorio A104 do Cad 2]
DTSTART;TZID=America/Sao_Paulo;VALUE=DATE-TIME:20250120T120000
DTEND;TZID=America/Sao_Paulo;VALUE=DATE-TIME:20250123T120000
DTSTAMP;VALUE=DATE-TIME:20260419T150853Z
UID:c2aa5d6a0cc843b0bf95d0c9d068eec1@150.164.76.86:8080
CREATED;VALUE=DATE-TIME:20240925T005427Z
DESCRIPTION:<p>Apresentações dos desfiles dos trabalhos finais das cole
 ções da disciplina Pesquisa de Moda II\, do Curso de Design de Moda da E
 BA-UFMG\, sob orientação do Prof. Tarcisio D Almeida. Precisaremos de 02
  caixas acústicas com tripés\; 02 telões grandes para projeções\; 02 
 notebooks\; 01 microfone.</p>
LAST-MODIFIED;VALUE=DATE-TIME:20250120T145523Z
URL:http://150.164.76.86:8080/cac/agenda/7253196961195265454
END:VEVENT
BEGIN:VTIMEZONE
TZID:America/Sao_Paulo
X-LIC-LOCATION:America/Sao_Paulo
BEGIN:DAYLIGHT
DTSTART;VALUE=DATE-TIME:20241020T010000
TZNAME:BRST
TZOFFSETFROM:-0300
TZOFFSETTO:-0200
END:DAYLIGHT
END:VTIMEZONE
END:VCALENDAR
