BEGIN:VCALENDAR
VERSION:2.0
PRODID:-//Plone.org//NONSGML plone.app.event//EN
X-WR-TIMEZONE:America/Sao_Paulo
BEGIN:VEVENT
SUMMARY:Mostra da Internacionalização da UFMG em [ Auditorio da Reitoria
 ]
DTSTART;TZID=America/Sao_Paulo;VALUE=DATE-TIME:20241121T080000
DTEND;TZID=America/Sao_Paulo;VALUE=DATE-TIME:20241121T120000
DTSTAMP;VALUE=DATE-TIME:20260419T175921Z
UID:4ccc8467cb8a43f78b6bce02283350d3@150.164.76.86:8080
CREATED;VALUE=DATE-TIME:20241017T152615Z
DESCRIPTION:<p>Mostra de Internacionalização com a participação das a
 ções de internacionalização de toda a UFMG (PRPG\, DRI\, Crinter\, Con
 fúcio\, FALE\, DAAD\, NARI\, etc.). Palestras dos convidados a falar sobr
 e mobilidade internacional e proficiência linguística Estrutura: caixa d
 e som e dois microfones.</p>
LAST-MODIFIED;VALUE=DATE-TIME:20241113T201047Z
URL:http://150.164.76.86:8080/cac/agenda/724235916826504767
END:VEVENT
BEGIN:VTIMEZONE
TZID:America/Sao_Paulo
X-LIC-LOCATION:America/Sao_Paulo
BEGIN:DAYLIGHT
DTSTART;VALUE=DATE-TIME:20241020T010000
TZNAME:BRST
TZOFFSETFROM:-0300
TZOFFSETTO:-0200
END:DAYLIGHT
END:VTIMEZONE
END:VCALENDAR
