BEGIN:VCALENDAR
VERSION:2.0
PRODID:-//Plone.org//NONSGML plone.app.event//EN
X-WR-TIMEZONE:America/Sao_Paulo
BEGIN:VEVENT
SUMMARY:Feira EBA em [ Entorno da Praca de Servicos]
DTSTART;TZID=America/Sao_Paulo;VALUE=DATE-TIME:20250313T060000
DTEND;TZID=America/Sao_Paulo;VALUE=DATE-TIME:20250314T190000
DTSTAMP;VALUE=DATE-TIME:20260419T120245Z
UID:5b2cccab52a24b04940a5e081a2bd1d7@150.164.76.86:8080
CREATED;VALUE=DATE-TIME:20241106T020201Z
DESCRIPTION:Não serão necessários equipamentos adicionais.
LAST-MODIFIED;VALUE=DATE-TIME:20241106T163648Z
URL:http://150.164.76.86:8080/cac/agenda/7242145613021916688
END:VEVENT
BEGIN:VTIMEZONE
TZID:America/Sao_Paulo
X-LIC-LOCATION:America/Sao_Paulo
BEGIN:STANDARD
DTSTART;VALUE=DATE-TIME:20250215T230000
TZNAME:BRT
TZOFFSETFROM:-0200
TZOFFSETTO:-0300
END:STANDARD
END:VTIMEZONE
END:VCALENDAR
