BEGIN:VCALENDAR
VERSION:2.0
PRODID:-//Plone.org//NONSGML plone.app.event//EN
X-WR-TIMEZONE:America/Sao_Paulo
BEGIN:VEVENT
SUMMARY:SESSÃO PÚBLICA CPPD VAGAS MAGISTÉRIO SUPERIOR COTAS em [ Outros
  espacos]
DTSTART;TZID=America/Sao_Paulo;VALUE=DATE-TIME:20221021T090000
DTEND;TZID=America/Sao_Paulo;VALUE=DATE-TIME:20221021T100000
DTSTAMP;VALUE=DATE-TIME:20260421T234753Z
UID:e02f869b0e924a02b558f63c0eca551f@150.164.76.86:8080
CREATED;VALUE=DATE-TIME:20221011T144637Z
DESCRIPTION:<p>Transmissão sessão pública - sorteio\, no canal do youtu
 be da CAC\, das vagas de magistério superior reservadas para negros e PCD
 . CHAT aberto.</p>
LAST-MODIFIED;VALUE=DATE-TIME:20221014T131443Z
URL:http://150.164.76.86:8080/cac/agenda/7228420921684341122
END:VEVENT
BEGIN:VTIMEZONE
TZID:America/Sao_Paulo
X-LIC-LOCATION:America/Sao_Paulo
BEGIN:DAYLIGHT
DTSTART;VALUE=DATE-TIME:20221016T010000
TZNAME:BRST
TZOFFSETFROM:-0300
TZOFFSETTO:-0200
END:DAYLIGHT
END:VTIMEZONE
END:VCALENDAR
