BEGIN:VCALENDAR
VERSION:2.0
PRODID:-//Plone.org//NONSGML plone.app.event//EN
X-WR-TIMEZONE:America/Sao_Paulo
BEGIN:VEVENT
SUMMARY:Inauguração Usinas Fotovoltaicas em [ Outros espacos Auditório 
 B101/102 do CAD 3]
DTSTART;TZID=America/Sao_Paulo;VALUE=DATE-TIME:20220624T100000
DTEND;TZID=America/Sao_Paulo;VALUE=DATE-TIME:20220624T110000
DTSTAMP;VALUE=DATE-TIME:20260422T081355Z
UID:90be03e2fe38424eb46676b33ddb6665@150.164.76.86:8080
CREATED;VALUE=DATE-TIME:20220608T190458Z
DESCRIPTION:<p>24/06/2022\, 10h\, presencial\, na área externa do CAD 3 (
 a confirmar) Inauguração Usinas Fotovoltaicas Observações: A proposta 
 é fazer uma montagem com o púlpito\, as bandeiras e local para receber a
 utoridade. Participação da reitora e do vice-reitor</p>
LAST-MODIFIED;VALUE=DATE-TIME:20230111T201114Z
URL:http://150.164.76.86:8080/cac/agenda/7201719657449504705
END:VEVENT
BEGIN:VTIMEZONE
TZID:America/Sao_Paulo
X-LIC-LOCATION:America/Sao_Paulo
BEGIN:STANDARD
DTSTART;VALUE=DATE-TIME:20220219T230000
TZNAME:BRT
TZOFFSETFROM:-0200
TZOFFSETTO:-0300
END:STANDARD
END:VTIMEZONE
END:VCALENDAR
