BEGIN:VCALENDAR
VERSION:2.0
PRODID:-//Plone.org//NONSGML plone.app.event//EN
X-WR-TIMEZONE:America/Sao_Paulo
BEGIN:VEVENT
SUMMARY:Seminário Núcleo de Estudos Judaicos da UFMG em [ Auditório B10
 1 do CAD 3]
DTSTART;TZID=America/Sao_Paulo;VALUE=DATE-TIME:20220919T140000
DTEND;TZID=America/Sao_Paulo;VALUE=DATE-TIME:20220922T150000
DTSTAMP;VALUE=DATE-TIME:20260422T012533Z
UID:ce56b525ed2442d1bb0d3c468430a3b6@150.164.76.86:8080
CREATED;VALUE=DATE-TIME:20220729T143359Z
DESCRIPTION:<p>Seminário do Núcleo de Estudos Judaicos. Caso não seja p
 ossível a reserva no CAD2\, agendar no CAD 1.</p>
LAST-MODIFIED;VALUE=DATE-TIME:20220817T134933Z
URL:http://150.164.76.86:8080/cac/agenda/7170250763492353680
END:VEVENT
BEGIN:VTIMEZONE
TZID:America/Sao_Paulo
X-LIC-LOCATION:America/Sao_Paulo
BEGIN:STANDARD
DTSTART;VALUE=DATE-TIME:20220219T230000
TZNAME:BRT
TZOFFSETFROM:-0200
TZOFFSETTO:-0300
END:STANDARD
END:VTIMEZONE
END:VCALENDAR
