BEGIN:VCALENDAR
VERSION:2.0
PRODID:-//Plone.org//NONSGML plone.app.event//EN
X-WR-TIMEZONE:America/Sao_Paulo
BEGIN:VEVENT
SUMMARY:Feira da UFMG em [ Entorno da Praca de Servicos]
DTSTART;TZID=America/Sao_Paulo;VALUE=DATE-TIME:20230628T060000
DTEND;TZID=America/Sao_Paulo;VALUE=DATE-TIME:20230628T180000
DTSTAMP;VALUE=DATE-TIME:20260421T115745Z
UID:06b03ae058934e9aa969f64a09652836@150.164.76.86:8080
CREATED;VALUE=DATE-TIME:20230206T201817Z
DESCRIPTION:Não serão necessários equipamentos e serviços adicionais.
LAST-MODIFIED;VALUE=DATE-TIME:20230207T174219Z
URL:http://150.164.76.86:8080/cac/agenda/7159578821991479242
END:VEVENT
BEGIN:VTIMEZONE
TZID:America/Sao_Paulo
X-LIC-LOCATION:America/Sao_Paulo
BEGIN:STANDARD
DTSTART;VALUE=DATE-TIME:20230225T230000
TZNAME:BRT
TZOFFSETFROM:-0200
TZOFFSETTO:-0300
END:STANDARD
END:VTIMEZONE
END:VCALENDAR
