BEGIN:VCALENDAR
VERSION:2.0
PRODID:-//Plone.org//NONSGML plone.app.event//EN
X-WR-TIMEZONE:America/Sao_Paulo
BEGIN:VEVENT
SUMMARY:PicadeRRÓ UFMG em [ Arena da praça de serviços]
DTSTART;TZID=America/Sao_Paulo;VALUE=DATE-TIME:20220928T170000
DTEND;TZID=America/Sao_Paulo;VALUE=DATE-TIME:20220928T190000
DTSTAMP;VALUE=DATE-TIME:20260422T024716Z
UID:f810685c0fd342fb90daec33265f7047@150.164.76.86:8080
CREATED;VALUE=DATE-TIME:20220824T005937Z
DESCRIPTION:Evento com caixa de som própria\, e reprodução de músicas 
 no estilo forró.\nMúsica e dança durante todo o intervalo do evento\, e
 ntre 17h30 e 19h.\nExpectativa de público de 300 pessoas ao longo de todo
  o evento.\nApoio da Pró-reitoria de Assuntos Estudantes (Prae) UFMG.\nEm
  caso de dúvida\, favor entrar em contato com a \nprofessora Márcia Lous
 ado.
LAST-MODIFIED;VALUE=DATE-TIME:20220824T140204Z
URL:http://150.164.76.86:8080/cac/agenda/7147644786815921830
END:VEVENT
BEGIN:VTIMEZONE
TZID:America/Sao_Paulo
X-LIC-LOCATION:America/Sao_Paulo
BEGIN:STANDARD
DTSTART;VALUE=DATE-TIME:20220219T230000
TZNAME:BRT
TZOFFSETFROM:-0200
TZOFFSETTO:-0300
END:STANDARD
END:VTIMEZONE
END:VCALENDAR
