BEGIN:VCALENDAR
VERSION:2.0
PRODID:-//Plone.org//NONSGML plone.app.event//EN
X-WR-TIMEZONE:America/Sao_Paulo
BEGIN:VEVENT
SUMMARY:Encontro Temático Transições. Ensino híbrido\, remoto e presen
 cial: das realidades que temos para as transições que queremos? em [ Out
 ros espacos]
DTSTART;TZID=America/Sao_Paulo;VALUE=DATE-TIME:20220429T140000
DTEND;TZID=America/Sao_Paulo;VALUE=DATE-TIME:20220429T163000
DTSTAMP;VALUE=DATE-TIME:20260422T093819Z
UID:7155f39dbadd40f3921279ae5aef6536@150.164.76.86:8080
CREATED;VALUE=DATE-TIME:20220406T164301Z
DESCRIPTION:<p>SAIBA MAIS EM: https://www.ufmg.br/giz/percurso-docente-uni
 vesitario/laboratorio-de-formacao-em-docencias-do-ensino-superior/ O LabDo
 cências (Laboratório de Formação em Docências do Ensino Superior ) é
  uma ação vinculada à Diretoria de Inovação e Metodologias de Ensino 
 da Pró-Reitoria de Graduação da Universidade Federal de Minas Gerais (G
 IZ-PROGRAD-UFMG). O LabDocências tem por objetivo oferecer apoio acadêmi
 co para o desenvolvimento político-pedagógico de processos que compreend
 am a concepção\, o planejamento\, a implementação\, a avaliação e a 
 reformulação de percursos formativos docentes e discentes\, com vistas a
  ampliar as estratégias de mediação da aprendizagem e a colaborar para 
 a constituição de uma rede de compartilhamento de experiências educacio
 nais socialmente referenciadas no âmbito da universidade. Anualmente\, s
 ão oferecidas centenas de vagas\, em um conjunto de diversas atividades f
 ormativas\, voltadas ao público de docentes e pós-graduandos ativos em p
 rojetos de ensino dentro da UFMG. O Encontro Temático é uma dessas ativi
 dades formativas\, que aberta a participação do público em geral e com 
 concessão de certificado. Momento destinado ao debate de temas contempor
 âneos que circunscrevem o fazer docente no âmbito da educação superior
 . Em 2022\, será discutida a temática “Transições?” “Ensino híb
 rido\, remoto e presencial: das realidades que temos para as transições 
 que queremos?” Dia: 29 de abril Horário: 14h às 16h30 Formato: ativida
 de on-line síncrona transmitida pelo canal YouTube da Coordenadoria de As
 suntos Comunitários – CAC/UFMG.</p>
LAST-MODIFIED;VALUE=DATE-TIME:20220412T201947Z
URL:http://150.164.76.86:8080/cac/agenda/7136416770705810713
END:VEVENT
BEGIN:VTIMEZONE
TZID:America/Sao_Paulo
X-LIC-LOCATION:America/Sao_Paulo
BEGIN:STANDARD
DTSTART;VALUE=DATE-TIME:20220219T230000
TZNAME:BRT
TZOFFSETFROM:-0200
TZOFFSETTO:-0300
END:STANDARD
END:VTIMEZONE
END:VCALENDAR
