BEGIN:VCALENDAR
VERSION:2.0
PRODID:-//Plone.org//NONSGML plone.app.event//EN
X-WR-TIMEZONE:America/Sao_Paulo
BEGIN:VEVENT
SUMMARY:Reunião coordenadores de Projeto das Chamadas PRAE em [ Outros es
 pacos]
DTSTART;TZID=America/Sao_Paulo;VALUE=DATE-TIME:20220830T180000
DTEND;TZID=America/Sao_Paulo;VALUE=DATE-TIME:20220830T190000
DTSTAMP;VALUE=DATE-TIME:20260422T025107Z
UID:67898f66bf6c4af0a5fbf0266f6bfff1@150.164.76.86:8080
CREATED;VALUE=DATE-TIME:20220921T184622Z
DESCRIPTION:<p><span style="text-align: left\; text-decoration-thickness: 
 initial\; text-decoration-style: initial\; text-decoration-color: initial\
 ; float: none\; ">Reunião coordenadores de Projeto das Chamadas PRAE<br /
 ></span></p>
LAST-MODIFIED;VALUE=DATE-TIME:20220921T184759Z
URL:http://150.164.76.86:8080/cac/agenda/7131988392702374170
END:VEVENT
BEGIN:VTIMEZONE
TZID:America/Sao_Paulo
X-LIC-LOCATION:America/Sao_Paulo
BEGIN:STANDARD
DTSTART;VALUE=DATE-TIME:20220219T230000
TZNAME:BRT
TZOFFSETFROM:-0200
TZOFFSETTO:-0300
END:STANDARD
END:VTIMEZONE
END:VCALENDAR
