BEGIN:VCALENDAR
VERSION:2.0
PRODID:-//Plone.org//NONSGML plone.app.event//EN
X-WR-TIMEZONE:America/Sao_Paulo
BEGIN:VEVENT
SUMMARY:Tópicos em Sociologia em [ Auditorio A104 do Cad 2]
DTSTART;TZID=America/Sao_Paulo;VALUE=DATE-TIME:20240621T130000
DTEND;TZID=America/Sao_Paulo;VALUE=DATE-TIME:20240621T180000
DTSTAMP;VALUE=DATE-TIME:20260420T012545Z
UID:c6e3574320f343faba5606261676cdf0@150.164.76.86:8080
CREATED;VALUE=DATE-TIME:20240306T121105Z
DESCRIPTION:<p>Aula ampliada da disciplina Tópicos em Sociologia. Ativida
 de com a presença do servidor Fabricio Riff para ajudar na TI.</p>
LAST-MODIFIED;VALUE=DATE-TIME:20240312T173000Z
URL:http://150.164.76.86:8080/cac/agenda/7129484224577250725
END:VEVENT
BEGIN:VTIMEZONE
TZID:America/Sao_Paulo
X-LIC-LOCATION:America/Sao_Paulo
BEGIN:STANDARD
DTSTART;VALUE=DATE-TIME:20240217T230000
TZNAME:BRT
TZOFFSETFROM:-0200
TZOFFSETTO:-0300
END:STANDARD
END:VTIMEZONE
END:VCALENDAR
