BEGIN:VCALENDAR
VERSION:2.0
PRODID:-//Plone.org//NONSGML plone.app.event//EN
X-WR-TIMEZONE:America/Sao_Paulo
BEGIN:VEVENT
SUMMARY:Posse Reitoria em [ Saguao da Reitoria Auditorio da Reitoria Grama
 do da Reitoria Entorno da Praca de Servicos Auditorio 1A do CAD 1 Auditori
 o 2A do CAD 1 Auditorio A102 do Cad 2 Auditorio A104 do Cad 2 Outros espac
 os Arena da praça de serviços Auditório B302 do CAD 3 Auditório B101/1
 02 do CAD 3 Auditório B301 do CAD 3]
DTSTART;TZID=America/Sao_Paulo;VALUE=DATE-TIME:20220321T060000
DTEND;TZID=America/Sao_Paulo;VALUE=DATE-TIME:20220322T230000
DTSTAMP;VALUE=DATE-TIME:20260422T094121Z
UID:dc785e9a8ffa45999704052637eff1d2@150.164.76.86:8080
CREATED;VALUE=DATE-TIME:20220209T140059Z
DESCRIPTION:<p>Posse Reitoria</p>
LAST-MODIFIED;VALUE=DATE-TIME:20230111T201055Z
URL:http://150.164.76.86:8080/cac/agenda/7126219097576850676
END:VEVENT
BEGIN:VTIMEZONE
TZID:America/Sao_Paulo
X-LIC-LOCATION:America/Sao_Paulo
BEGIN:STANDARD
DTSTART;VALUE=DATE-TIME:20220219T230000
TZNAME:BRT
TZOFFSETFROM:-0200
TZOFFSETTO:-0300
END:STANDARD
END:VTIMEZONE
END:VCALENDAR
