BEGIN:VCALENDAR
VERSION:2.0
PRODID:-//Plone.org//NONSGML plone.app.event//EN
X-WR-TIMEZONE:America/Sao_Paulo
BEGIN:VEVENT
SUMMARY:Ao cair da tarde em [ Arena da praça de serviços]
DTSTART;TZID=America/Sao_Paulo;VALUE=DATE-TIME:20231019T130000
DTEND;TZID=America/Sao_Paulo;VALUE=DATE-TIME:20231019T190000
DTSTAMP;VALUE=DATE-TIME:20260421T020256Z
UID:ac4ee11e59f64ffe8aeffdca1026150e@150.164.76.86:8080
CREATED;VALUE=DATE-TIME:20230525T191739Z
DESCRIPTION:<p>Equipamento som e luz</p>
LAST-MODIFIED;VALUE=DATE-TIME:20230703T194821Z
URL:http://150.164.76.86:8080/cac/agenda/7108803710323155666
END:VEVENT
BEGIN:VTIMEZONE
TZID:America/Sao_Paulo
X-LIC-LOCATION:America/Sao_Paulo
BEGIN:DAYLIGHT
DTSTART;VALUE=DATE-TIME:20231015T010000
TZNAME:BRST
TZOFFSETFROM:-0300
TZOFFSETTO:-0200
END:DAYLIGHT
END:VTIMEZONE
END:VCALENDAR
