BEGIN:VCALENDAR
VERSION:2.0
PRODID:-//Plone.org//NONSGML plone.app.event//EN
X-WR-TIMEZONE:America/Sao_Paulo
BEGIN:VEVENT
SUMMARY:SSBS 2023 - UFMG Summer School on Brazilian Studies em [ Arena da 
 praça de serviços]
DTSTART;TZID=America/Sao_Paulo;VALUE=DATE-TIME:20230728T120000
DTEND;TZID=America/Sao_Paulo;VALUE=DATE-TIME:20230728T180000
DTSTAMP;VALUE=DATE-TIME:20260421T103049Z
UID:ef50c9ab779a43f681c9aed1c0d6b7c8@150.164.76.86:8080
CREATED;VALUE=DATE-TIME:20230224T133725Z
DESCRIPTION:<p>Reserva da arena praça de serviços para atividade cultura
 l\, parte da programação do SSBS - UFMG Summer School on Brazilian Studi
 es 2023. Será necessário uma caixa de som\, um microfone e cabos para co
 nectar o aparelho celular e o notebook na caixa.</p>
LAST-MODIFIED;VALUE=DATE-TIME:20230623T175254Z
URL:http://150.164.76.86:8080/cac/agenda/7107754446083849458
END:VEVENT
BEGIN:VTIMEZONE
TZID:America/Sao_Paulo
X-LIC-LOCATION:America/Sao_Paulo
BEGIN:STANDARD
DTSTART;VALUE=DATE-TIME:20230225T230000
TZNAME:BRT
TZOFFSETFROM:-0200
TZOFFSETTO:-0300
END:STANDARD
END:VTIMEZONE
END:VCALENDAR
