BEGIN:VCALENDAR
VERSION:2.0
PRODID:-//Plone.org//NONSGML plone.app.event//EN
X-WR-TIMEZONE:America/Sao_Paulo
BEGIN:VEVENT
SUMMARY:Semana de abertura do Programa de Formação Transversal em Sabere
 s Tradicionais e Colóquio com Mestres do Notório Saber em [ Outros espac
 os]
DTSTART;TZID=America/Sao_Paulo;VALUE=DATE-TIME:20230417T180000
DTEND;TZID=America/Sao_Paulo;VALUE=DATE-TIME:20230417T223000
DTSTAMP;VALUE=DATE-TIME:20260421T150620Z
UID:29eff93994f646e0b2882ba2051caa6f@150.164.76.86:8080
CREATED;VALUE=DATE-TIME:20230315T124829Z
DESCRIPTION:<p>Precisaremos apenas de Microfones. Trata-se de uma semana e
 special de abertura do Programa de Formação Transversal em Saberes Tradi
 cionais da UFMG\, com a participação de mestres\, mestras e artistas que
  recentemente receberam o título de Doutor em Notório Saber: Joelson Fer
 reira\, Cacique Babau\, Pedrina Lourdes dos Santos e Gil Amâncio.</p>
LAST-MODIFIED;VALUE=DATE-TIME:20230414T152155Z
URL:http://150.164.76.86:8080/cac/agenda/7097083904418044078
END:VEVENT
BEGIN:VTIMEZONE
TZID:America/Sao_Paulo
X-LIC-LOCATION:America/Sao_Paulo
BEGIN:STANDARD
DTSTART;VALUE=DATE-TIME:20230225T230000
TZNAME:BRT
TZOFFSETFROM:-0200
TZOFFSETTO:-0300
END:STANDARD
END:VTIMEZONE
END:VCALENDAR
