BEGIN:VCALENDAR
VERSION:2.0
PRODID:-//Plone.org//NONSGML plone.app.event//EN
X-WR-TIMEZONE:America/Sao_Paulo
BEGIN:VEVENT
SUMMARY:Mostra de Internacionalização da UFMG em [ Auditorio da Reitoria
 ]
DTSTART;TZID=America/Sao_Paulo;VALUE=DATE-TIME:20250523T190000
DTEND;TZID=America/Sao_Paulo;VALUE=DATE-TIME:20250523T210000
DTSTAMP;VALUE=DATE-TIME:20260419T091234Z
UID:48d13f0b00f5475fa32ef4634368ced8@150.164.76.86:8080
CREATED;VALUE=DATE-TIME:20241203T151356Z
DESCRIPTION:<p>Reserva do Auditório da Reitoria para realização das Pal
 estras/Workshop sobre internacionalização - atividades complementares NO
 TURNO.</p>
LAST-MODIFIED;VALUE=DATE-TIME:20250320T200407Z
URL:http://150.164.76.86:8080/cac/agenda/7074921620890049324
END:VEVENT
BEGIN:VTIMEZONE
TZID:America/Sao_Paulo
X-LIC-LOCATION:America/Sao_Paulo
BEGIN:STANDARD
DTSTART;VALUE=DATE-TIME:20250215T230000
TZNAME:BRT
TZOFFSETFROM:-0200
TZOFFSETTO:-0300
END:STANDARD
END:VTIMEZONE
END:VCALENDAR
