BEGIN:VCALENDAR
VERSION:2.0
PRODID:-//Plone.org//NONSGML plone.app.event//EN
X-WR-TIMEZONE:America/Sao_Paulo
BEGIN:VEVENT
SUMMARY:XXI BMIC- Brazilian Meeting on Inorganic Chemistry em [ Auditório
  B106 do CAD3 Auditório B107 do CAD3]
DTSTART;TZID=America/Sao_Paulo;VALUE=DATE-TIME:20240913T070000
DTEND;TZID=America/Sao_Paulo;VALUE=DATE-TIME:20240913T210000
DTSTAMP;VALUE=DATE-TIME:20260419T205745Z
UID:86635defdcf7469199b517609df84b98@150.164.76.86:8080
CREATED;VALUE=DATE-TIME:20240527T142436Z
DESCRIPTION:<p>evento Química</p>
LAST-MODIFIED;VALUE=DATE-TIME:20240904T112928Z
URL:http://150.164.76.86:8080/cac/agenda/7060569719371683538
END:VEVENT
BEGIN:VTIMEZONE
TZID:America/Sao_Paulo
X-LIC-LOCATION:America/Sao_Paulo
BEGIN:STANDARD
DTSTART;VALUE=DATE-TIME:20240217T230000
TZNAME:BRT
TZOFFSETFROM:-0200
TZOFFSETTO:-0300
END:STANDARD
END:VTIMEZONE
END:VCALENDAR
