BEGIN:VCALENDAR
VERSION:2.0
PRODID:-//Plone.org//NONSGML plone.app.event//EN
X-WR-TIMEZONE:America/Sao_Paulo
BEGIN:VEVENT
SUMMARY:I ENLE - Encontro Nacional de Linguística e Educação: Novas per
 spectivas para o Ensino de Língua Portuguesa em [ Auditorio A102 do Cad 2
 ]
DTSTART;TZID=America/Sao_Paulo;VALUE=DATE-TIME:20250312T120000
DTEND;TZID=America/Sao_Paulo;VALUE=DATE-TIME:20250312T160000
DTSTAMP;VALUE=DATE-TIME:20260419T120045Z
UID:c77dc17f3f424e1eaadc99eb268d819a@150.164.76.86:8080
CREATED;VALUE=DATE-TIME:20250121T215902Z
DESCRIPTION:O encontro busca promover a disseminação científica\, o rec
 onhecimento e a\ntroca de experiências em propostas didático-pedagógica
 s inovadoras\,\ndesenvolvidas a partir de teorias linguísticas\, e voltad
 as para o\nensino-aprendizagem de Língua Portuguesa. Tem como foco princi
 pal construir\num espaço em que\, prioritariamente\, professores(as) atua
 ntes na Educação\nBásica possam apresentar suas experiências exitosas 
 no ensino de gramática.\nO evento será um espaço ímpar para que docent
 es de todo o Brasil possam\ndialogar sobre metodologias\, compartilhar pro
 postas de trabalho e pensar\ncoletivamente sobre abordagens passíveis de 
 serem implementadas em sua\nrealidade escolar.
LAST-MODIFIED;VALUE=DATE-TIME:20250122T152418Z
URL:http://150.164.76.86:8080/cac/agenda/7050457244563803766
END:VEVENT
BEGIN:VTIMEZONE
TZID:America/Sao_Paulo
X-LIC-LOCATION:America/Sao_Paulo
BEGIN:STANDARD
DTSTART;VALUE=DATE-TIME:20250215T230000
TZNAME:BRT
TZOFFSETFROM:-0200
TZOFFSETTO:-0300
END:STANDARD
END:VTIMEZONE
END:VCALENDAR
