BEGIN:VCALENDAR
VERSION:2.0
PRODID:-//Plone.org//NONSGML plone.app.event//EN
X-WR-TIMEZONE:America/Sao_Paulo
BEGIN:VEVENT
SUMMARY:Palestra para contratados da Áreas Verdes em [ Auditorio A104 do 
 Cad 2]
DTSTART;TZID=America/Sao_Paulo;VALUE=DATE-TIME:20230918T070000
DTEND;TZID=America/Sao_Paulo;VALUE=DATE-TIME:20230918T120000
DTSTAMP;VALUE=DATE-TIME:20260421T062227Z
UID:fd96dc9fa2934ca1b0adc95ad045f790@150.164.76.86:8080
CREATED;VALUE=DATE-TIME:20230914T170438Z
DESCRIPTION:<p>Treinamento para novos contratados da Áreas Verdes.</p>\n<
 p>Não terá transmissão nem gravação nem usará projetor. Usará apena
 s microfone.</p>\n<p>O auditório será aberto às 7h.</p>\n<p>Haverá cof
 fee break.</p>
LAST-MODIFIED;VALUE=DATE-TIME:20230915T180607Z
URL:http://150.164.76.86:8080/cac/agenda/704826060006210956
END:VEVENT
BEGIN:VTIMEZONE
TZID:America/Sao_Paulo
X-LIC-LOCATION:America/Sao_Paulo
BEGIN:STANDARD
DTSTART;VALUE=DATE-TIME:20230225T230000
TZNAME:BRT
TZOFFSETFROM:-0200
TZOFFSETTO:-0300
END:STANDARD
END:VTIMEZONE
END:VCALENDAR
