BEGIN:VCALENDAR
VERSION:2.0
PRODID:-//Plone.org//NONSGML plone.app.event//EN
X-WR-TIMEZONE:America/Sao_Paulo
BEGIN:VEVENT
SUMMARY:A aula de abertura do primeiro semestre de 2023 em [ Auditorio da 
 Reitoria]
DTSTART;TZID=America/Sao_Paulo;VALUE=DATE-TIME:20230310T140000
DTEND;TZID=America/Sao_Paulo;VALUE=DATE-TIME:20230310T163000
DTSTAMP;VALUE=DATE-TIME:20260421T164258Z
UID:e498d84ecba94ec8b9ec778e86fd7f17@150.164.76.86:8080
CREATED;VALUE=DATE-TIME:20230227T203402Z
DESCRIPTION:<p>A aula de abertura do primeiro semestre de 2023 ocorrerá n
 a semana do dia 6 de março\, no auditório da reitoria. O nome que está 
 para ser confirmado é o da Ministra de Ciência e Tecnologia\, Luciana Sa
 ntos e o tema abordado será a participação das mulheres na Ciência\, a
 proveitando o dia das mulheres\, 10 de março. O semestre tem duas datas d
 e início devido aos atrasos na liberação das notas do Enem pelo Inep. D
 ata: 10/03 Horário: 14h Local: auditório da reitoria</p>
LAST-MODIFIED;VALUE=DATE-TIME:20230302T130652Z
URL:http://150.164.76.86:8080/cac/agenda/7015184269870292670
END:VEVENT
BEGIN:VTIMEZONE
TZID:America/Sao_Paulo
X-LIC-LOCATION:America/Sao_Paulo
BEGIN:STANDARD
DTSTART;VALUE=DATE-TIME:20230225T230000
TZNAME:BRT
TZOFFSETFROM:-0200
TZOFFSETTO:-0300
END:STANDARD
END:VTIMEZONE
END:VCALENDAR
