BEGIN:VCALENDAR
VERSION:2.0
PRODID:-//Plone.org//NONSGML plone.app.event//EN
X-WR-TIMEZONE:America/Sao_Paulo
BEGIN:VEVENT
SUMMARY:Mostra de Internacionalização da UFMG em [ Arena da praça de se
 rviços Entorno da Praca de Servicos]
DTSTART;TZID=America/Sao_Paulo;VALUE=DATE-TIME:20240520T070000
DTEND;TZID=America/Sao_Paulo;VALUE=DATE-TIME:20240520T220000
DTSTAMP;VALUE=DATE-TIME:20260420T042803Z
UID:5f9698472fed4008a72645c95bbabcc4@150.164.76.86:8080
CREATED;VALUE=DATE-TIME:20231109T134607Z
DESCRIPTION:<p>Solicitamos gentilmente a reserva da Arena da Praça de Ser
 viços e do Entorno da praça de serviços. Evento Mostra de Internacional
 ização da UFMG. Organizada pela DRI/UFMG.</p>
LAST-MODIFIED;VALUE=DATE-TIME:20240506T123107Z
URL:http://150.164.76.86:8080/cac/agenda/7012751889777608079
END:VEVENT
BEGIN:VTIMEZONE
TZID:America/Sao_Paulo
X-LIC-LOCATION:America/Sao_Paulo
BEGIN:STANDARD
DTSTART;VALUE=DATE-TIME:20240217T230000
TZNAME:BRT
TZOFFSETFROM:-0200
TZOFFSETTO:-0300
END:STANDARD
END:VTIMEZONE
END:VCALENDAR
