BEGIN:VCALENDAR
VERSION:2.0
PRODID:-//Plone.org//NONSGML plone.app.event//EN
X-WR-TIMEZONE:America/Sao_Paulo
BEGIN:VEVENT
SUMMARY:Feira da UFMG em [ Entorno da Praca de Servicos]
DTSTART;TZID=America/Sao_Paulo;VALUE=DATE-TIME:20230524T060000
DTEND;TZID=America/Sao_Paulo;VALUE=DATE-TIME:20230524T180000
DTSTAMP;VALUE=DATE-TIME:20260421T133925Z
UID:22fc895e8d024fa38360fadd29802be1@150.164.76.86:8080
CREATED;VALUE=DATE-TIME:20230206T201013Z
DESCRIPTION:Não serão necessários equipamentos ou serviços adicionais.
LAST-MODIFIED;VALUE=DATE-TIME:20230207T174140Z
URL:http://150.164.76.86:8080/cac/agenda/7010350044666910731
END:VEVENT
BEGIN:VTIMEZONE
TZID:America/Sao_Paulo
X-LIC-LOCATION:America/Sao_Paulo
BEGIN:STANDARD
DTSTART;VALUE=DATE-TIME:20230225T230000
TZNAME:BRT
TZOFFSETFROM:-0200
TZOFFSETTO:-0300
END:STANDARD
END:VTIMEZONE
END:VCALENDAR
