BEGIN:VCALENDAR
VERSION:2.0
PRODID:-//Plone.org//NONSGML plone.app.event//EN
X-WR-TIMEZONE:America/Sao_Paulo
BEGIN:VEVENT
SUMMARY:Concurso da FUMARC em [ Auditório B301 do CAD 3 Auditório B302 d
 o CAD 3 Outros espacos Auditorio A102 do Cad 2 Auditorio A104 do Cad 2 Aud
 itorio Nobre do CAD 1 Auditorio 1A do CAD 1 Auditorio 2A do CAD 1]
DTSTART;TZID=America/Sao_Paulo;VALUE=DATE-TIME:20230128T070000
DTEND;TZID=America/Sao_Paulo;VALUE=DATE-TIME:20230129T080000
DTSTAMP;VALUE=DATE-TIME:20260421T175426Z
UID:d00ff02462fd425ca553d517bdfc6579@150.164.76.86:8080
CREATED;VALUE=DATE-TIME:20221129T165517Z
DESCRIPTION:<p>Sem necessidade de equipamentos ou serviços prestados pela
  equipe de eventos.</p>\n<div class="field z3cformInlineValidation kssattr
 -fieldname-form.widgets.description" id="formfield-form-widgets-descriptio
 n" data-fieldname="form.widgets.description">\n<div class="kupu-widget tex
 t-field" id="form-widgets-description">\n<p>Reserva destinada aos  CADs 1
 \, 2 e 3.</p>\n<p> </p>\n</div>\n</div>
LAST-MODIFIED;VALUE=DATE-TIME:20221129T181551Z
URL:http://150.164.76.86:8080/cac/agenda/699013321837884879
END:VEVENT
BEGIN:VTIMEZONE
TZID:America/Sao_Paulo
X-LIC-LOCATION:America/Sao_Paulo
BEGIN:DAYLIGHT
DTSTART;VALUE=DATE-TIME:20221016T010000
TZNAME:BRST
TZOFFSETFROM:-0300
TZOFFSETTO:-0200
END:DAYLIGHT
END:VTIMEZONE
END:VCALENDAR
