BEGIN:VCALENDAR
VERSION:2.0
PRODID:-//Plone.org//NONSGML plone.app.event//EN
X-WR-TIMEZONE:America/Sao_Paulo
BEGIN:VEVENT
SUMMARY:Colação de grau dos cursos de Fisioterapia e Terapia Ocupacional
  em [ Auditorio Nobre do CAD 1]
DTSTART;TZID=America/Sao_Paulo;VALUE=DATE-TIME:20220805T090000
DTEND;TZID=America/Sao_Paulo;VALUE=DATE-TIME:20220805T120000
DTSTAMP;VALUE=DATE-TIME:20260422T012539Z
UID:20b2bf201ff844218ced3de6de49f81b@150.164.76.86:8080
CREATED;VALUE=DATE-TIME:20220331T175728Z
DESCRIPTION:Programação: colação de grau.\n\nEquipamentos:\nMesa princ
 ipal\, sendo (mais ou menos) 10 pessoas que irão compor a mesa\,\nTécnic
 o do som no dia da colação\, para colocar o hino Nacional (cantado\, se 
 possível) e organizar os microfones\;\nDisponibilizar a Bandeira do Brasi
 l\, a de Minas Gerais e da UFMG
LAST-MODIFIED;VALUE=DATE-TIME:20220404T160424Z
URL:http://150.164.76.86:8080/cac/agenda/698417402543267791
END:VEVENT
BEGIN:VTIMEZONE
TZID:America/Sao_Paulo
X-LIC-LOCATION:America/Sao_Paulo
BEGIN:STANDARD
DTSTART;VALUE=DATE-TIME:20220219T230000
TZNAME:BRT
TZOFFSETFROM:-0200
TZOFFSETTO:-0300
END:STANDARD
END:VTIMEZONE
END:VCALENDAR
