BEGIN:VCALENDAR
VERSION:2.0
PRODID:-//Plone.org//NONSGML plone.app.event//EN
X-WR-TIMEZONE:America/Sao_Paulo
BEGIN:VEVENT
SUMMARY:Posse Diretoria Escola de Música em [ Outros espacos]
DTSTART;TZID=America/Sao_Paulo;VALUE=DATE-TIME:20220809T180000
DTEND;TZID=America/Sao_Paulo;VALUE=DATE-TIME:20220809T200000
DTSTAMP;VALUE=DATE-TIME:20260422T012532Z
UID:669688ab92ec43338006c58853711079@150.164.76.86:8080
CREATED;VALUE=DATE-TIME:20220707T194014Z
DESCRIPTION:<p>No dia 09/08/2022 haverá a cerimônia de posse da nova Dir
 etoria da Escola de Música e\, como contaremos com a presença da Reitora
  no evento\, venho solicitar o empréstimo dos seguintes itens: toalha azu
 l\, bandeiras\, mastro\, suporte e parlatório de aço. Saliento que a ret
 irada do material será no dia 08/08/2022 e o transporte ficará sob nossa
  responsabilidade.</p>
LAST-MODIFIED;VALUE=DATE-TIME:20220707T194553Z
URL:http://150.164.76.86:8080/cac/agenda/6981637422959250678
END:VEVENT
BEGIN:VTIMEZONE
TZID:America/Sao_Paulo
X-LIC-LOCATION:America/Sao_Paulo
BEGIN:STANDARD
DTSTART;VALUE=DATE-TIME:20220219T230000
TZNAME:BRT
TZOFFSETFROM:-0200
TZOFFSETTO:-0300
END:STANDARD
END:VTIMEZONE
END:VCALENDAR
