BEGIN:VCALENDAR
VERSION:2.0
PRODID:-//Plone.org//NONSGML plone.app.event//EN
X-WR-TIMEZONE:America/Sao_Paulo
BEGIN:VEVENT
SUMMARY:Campeonato de pipas - a universidade nos desafiando ir além em [ 
 Gramado da Reitoria Arena da praça de serviços Entorno da Praca de Servi
 cos]
DTSTART;TZID=America/Sao_Paulo;VALUE=DATE-TIME:20241029T080000
DTEND;TZID=America/Sao_Paulo;VALUE=DATE-TIME:20241029T130000
DTSTAMP;VALUE=DATE-TIME:20260419T192113Z
UID:64106e782bab46a8924aa2106724bb7a@150.164.76.86:8080
CREATED;VALUE=DATE-TIME:20241003T154412Z
DESCRIPTION:O evento "Campeonato de pipas - a Universidade nos desafiando 
 ir além" ocorrerá no dia 29/10/24 com proposta de acontecer na praça de
  serviços e no gramado da reitoria do campus Pampulha.\nParticiparão est
 udantes do curso de enfermagem\, pacientes do Cersam Pampulha e a comunida
 de que se interessar pela atividade no dia do evento.\nOs estudantes\, jun
 tamente com os pacientes do Cersam\, realizarão apresentação das pipas 
 elaboradas por eles (cada pipa contará uma história e carregará consigo
  uma mensagem de saúde mental).\n\nProgramação (29/10/24)\n\n29/10/24 -
  Campeonato\n9h - Abertura do evento pelas docentes da disciplina e equipe
  organizadora (arena praça de serviços)\n9h30 - Leitura de texto elabora
 do pelos usuários do Cersam Pampulha (arena praça de serviços)\n9h40 à
 s 10h20 - Apresentação das pipas e de suas histórias (arena praça de s
 erviços)\n10h20 - Soltura das pipas (gramado da reitoria)\n11h - premiaç
 ão (arena praça de serviços)
LAST-MODIFIED;VALUE=DATE-TIME:20241003T174103Z
URL:http://150.164.76.86:8080/cac/agenda/696315505556374442
END:VEVENT
BEGIN:VTIMEZONE
TZID:America/Sao_Paulo
X-LIC-LOCATION:America/Sao_Paulo
BEGIN:DAYLIGHT
DTSTART;VALUE=DATE-TIME:20241020T010000
TZNAME:BRST
TZOFFSETFROM:-0300
TZOFFSETTO:-0200
END:DAYLIGHT
END:VTIMEZONE
END:VCALENDAR
