BEGIN:VCALENDAR
VERSION:2.0
PRODID:-//Plone.org//NONSGML plone.app.event//EN
X-WR-TIMEZONE:America/Sao_Paulo
BEGIN:VEVENT
SUMMARY:XXX Encontro de Pesquisa em Fisiologia e Farmacologia em [ Auditor
 io A102 do Cad 2]
DTSTART;TZID=America/Sao_Paulo;VALUE=DATE-TIME:20241210T080000
DTEND;TZID=America/Sao_Paulo;VALUE=DATE-TIME:20241212T190000
DTSTAMP;VALUE=DATE-TIME:20260419T163301Z
UID:dc7af24823fe4416bb55c79769f4d595@150.164.76.86:8080
CREATED;VALUE=DATE-TIME:20240912T194826Z
DESCRIPTION:<p>Encontro de Pesquisa do PPG Fisiologia e Farmacologia. Audi
 tório\, mesa\, cadeiras\, púlpito\, projetor de slides e microfone.</p>
LAST-MODIFIED;VALUE=DATE-TIME:20240919T204112Z
URL:http://150.164.76.86:8080/cac/agenda/6942011893790248687
END:VEVENT
BEGIN:VTIMEZONE
TZID:America/Sao_Paulo
X-LIC-LOCATION:America/Sao_Paulo
BEGIN:DAYLIGHT
DTSTART;VALUE=DATE-TIME:20241020T010000
TZNAME:BRST
TZOFFSETFROM:-0300
TZOFFSETTO:-0200
END:DAYLIGHT
END:VTIMEZONE
END:VCALENDAR
