BEGIN:VCALENDAR
VERSION:2.0
PRODID:-//Plone.org//NONSGML plone.app.event//EN
X-WR-TIMEZONE:America/Sao_Paulo
BEGIN:VEVENT
SUMMARY:Valuation Challenge - Liga de Mercado e Negócios em [ Auditorio A
 102 do Cad 2]
DTSTART;TZID=America/Sao_Paulo;VALUE=DATE-TIME:20230622T183000
DTEND;TZID=America/Sao_Paulo;VALUE=DATE-TIME:20230622T220000
DTSTAMP;VALUE=DATE-TIME:20260421T145723Z
UID:25eecbf9a2364ed6868d0e3870e30489@150.164.76.86:8080
CREATED;VALUE=DATE-TIME:20230607T121514Z
DESCRIPTION:<p>O Valuation Challenge é uma competição interna da Liga d
 e Mercado e Negócios UFMG de avaliação de uma determinada empresa\, par
 a o desenvolvimento no âmbito de valuation. 3 grupos estão participando 
 da competição e\, neste dia\, ocorrerão as apresentações finais. Prec
 isaremos de projetor para os slides das apresentações. OBS: Modo aula</p
 >
LAST-MODIFIED;VALUE=DATE-TIME:20230613T204337Z
URL:http://150.164.76.86:8080/cac/agenda/6929952055032898720
END:VEVENT
BEGIN:VTIMEZONE
TZID:America/Sao_Paulo
X-LIC-LOCATION:America/Sao_Paulo
BEGIN:STANDARD
DTSTART;VALUE=DATE-TIME:20230225T230000
TZNAME:BRT
TZOFFSETFROM:-0200
TZOFFSETTO:-0300
END:STANDARD
END:VTIMEZONE
END:VCALENDAR
