BEGIN:VCALENDAR
VERSION:2.0
PRODID:-//Plone.org//NONSGML plone.app.event//EN
X-WR-TIMEZONE:America/Sao_Paulo
BEGIN:VEVENT
SUMMARY:Apresentação Institucional PJ Consultoria em [ Auditorio A102 do
  Cad 2]
DTSTART;TZID=America/Sao_Paulo;VALUE=DATE-TIME:20230412T173000
DTEND;TZID=America/Sao_Paulo;VALUE=DATE-TIME:20230412T193000
DTSTAMP;VALUE=DATE-TIME:20260421T150453Z
UID:ad33ed96deaf4f72a6494a61dee69eb8@150.164.76.86:8080
CREATED;VALUE=DATE-TIME:20230406T134926Z
DESCRIPTION:<p>Sou presidente da PJ Consultoria\, empresa júnior dos curs
 os de Engenharia Mecânica e de Produção na UFMG. Nesse momento\, vamos 
 fazer uma apresentação institucional para os alunos inscritos no nosso p
 rocesso seletivo. A necessidade de realizar o evento em um auditório se d
 á pelo fato de ser um evento sério\, e uma sala de aula não passaria a 
 seriedade que prezamos. Além disso\, os seninários da engenharia não es
 tarão abertos nesse dia\, por isso a reserva no cad3. O material necessá
 rio para o evento são o projetor\, 2 microfones\, tela de projeção e pa
 ssador de slides. Não precisamos de serviço de técnicos.</p>
LAST-MODIFIED;VALUE=DATE-TIME:20230412T200842Z
URL:http://150.164.76.86:8080/cac/agenda/6912378774568700812
END:VEVENT
BEGIN:VTIMEZONE
TZID:America/Sao_Paulo
X-LIC-LOCATION:America/Sao_Paulo
BEGIN:STANDARD
DTSTART;VALUE=DATE-TIME:20230225T230000
TZNAME:BRT
TZOFFSETFROM:-0200
TZOFFSETTO:-0300
END:STANDARD
END:VTIMEZONE
END:VCALENDAR
