BEGIN:VCALENDAR
VERSION:2.0
PRODID:-//Plone.org//NONSGML plone.app.event//EN
X-WR-TIMEZONE:America/Sao_Paulo
BEGIN:VEVENT
SUMMARY:Encontro de Ensino de Ciências por Investigação - EnECI em [ Au
 ditorio Nobre do CAD 1]
DTSTART;TZID=America/Sao_Paulo;VALUE=DATE-TIME:20200525T080000
DTEND;TZID=America/Sao_Paulo;VALUE=DATE-TIME:20200527T180000
DTSTAMP;VALUE=DATE-TIME:20260425T000627Z
UID:a8d930bf307540e88278e0669939afaa@150.164.76.86:8080
CREATED;VALUE=DATE-TIME:20191105T181632Z
DESCRIPTION:<p>O evento está organizado em torno de conferências (3)\, m
 esas redondas (3)\, rodas de conversa (3) e apresentação de posteres. Se
 rão necessários equipamentos de projeção e som\, assim como para video
 conferências. Proposta de Organização do evento: 18/05 19/05 20/05 Cred
 enciamento Cerimônia de Abertura Conferência 1 Conferência 2 Conferênc
 ia 3 Apresentação de pôster Apresentação de pôster Apresentação de
  pôster Almoço Almoço Almoço Mesa Redonda 1 Mesa Redonda 2 Mesa Redond
 a 3 Rodas de conversa Rodas de conversa Apresentação Cultural: Apresenta
 ção Cultural: Espaço Físico Necessário ● Um auditório que comporte
  500 pessoas\, para as conferências ● Espaço aberto para exposição d
 os pôsteres</p>
LAST-MODIFIED;VALUE=DATE-TIME:20191230T134716Z
URL:http://150.164.76.86:8080/cac/agenda/6907206614611539364
END:VEVENT
BEGIN:VTIMEZONE
TZID:America/Sao_Paulo
X-LIC-LOCATION:America/Sao_Paulo
BEGIN:STANDARD
DTSTART;VALUE=DATE-TIME:20200215T230000
TZNAME:BRT
TZOFFSETFROM:-0200
TZOFFSETTO:-0300
END:STANDARD
END:VTIMEZONE
END:VCALENDAR
