BEGIN:VCALENDAR
VERSION:2.0
PRODID:-//Plone.org//NONSGML plone.app.event//EN
X-WR-TIMEZONE:America/Sao_Paulo
BEGIN:VEVENT
SUMMARY:3° Café Hidrogeológico LEHID-IGC-UFMG em [ Auditório B101/102 
 do CAD 3 (102 s/ ar condic)]
DTSTART;TZID=America/Sao_Paulo;VALUE=DATE-TIME:20250410T090000
DTEND;TZID=America/Sao_Paulo;VALUE=DATE-TIME:20250411T190000
DTSTAMP;VALUE=DATE-TIME:20260419T105325Z
UID:8fe8899e5ef9472e89f339f6dd222ad3@150.164.76.86:8080
CREATED;VALUE=DATE-TIME:20250204T182125Z
DESCRIPTION:Nome do evento: 3° Café Hidrogeológico LEHID-IGC-UFMG\nNome
  do responsável: Paulo Henrique Ferreira Galvão\nTelefone de contato: (3
 1) 99318-2049\nVinculo: IGC-GEOLOGIA E PÓS-GRADUAÇÃO EM GEOLOGIA\nPúbl
 ico alvo: Pesquisadores\, Profissionais e Estudantes\, com estimativa de 2
 50 pessoas\nObservação: Encontro realizado pelo Laboratório de Estudos 
 Hidrogeológicos do IGC/UFMG para discutir assuntos relacionados aos recur
 sos hídricos do estado de Minas Gerais. Evento com a participação abert
 a de pesquisadores\, professores\, profissionais\, estudantes (graduação
  e pós-graduação) e empresas com interesses em hidrogeologia\, geologia
  ambiental\, engenharias\, geotecnia e áreas afins.\n\nMarcações\nLocal
 : Auditório - 10/04/2025: 09:00 até 20:00\nLocal: Auditório - 11/04/202
 5: 09:00 até 19:00\n\nSerão utilizados apenas microfones sem fio\, datas
 how e passador de slides. Evento 100% presencial\, sem qualquer transmiss
 ão online.\n\nHaverá 1 coffee break no período da tarde em cada dia.
LAST-MODIFIED;VALUE=DATE-TIME:20250331T184726Z
URL:http://150.164.76.86:8080/cac/agenda/6905283429633107439
END:VEVENT
BEGIN:VTIMEZONE
TZID:America/Sao_Paulo
X-LIC-LOCATION:America/Sao_Paulo
BEGIN:STANDARD
DTSTART;VALUE=DATE-TIME:20250215T230000
TZNAME:BRT
TZOFFSETFROM:-0200
TZOFFSETTO:-0300
END:STANDARD
END:VTIMEZONE
END:VCALENDAR
