BEGIN:VCALENDAR
VERSION:2.0
PRODID:-//Plone.org//NONSGML plone.app.event//EN
X-WR-TIMEZONE:America/Sao_Paulo
BEGIN:VEVENT
SUMMARY:Feira Indígena em [ Auditorio A102 do Cad 2]
DTSTART;TZID=America/Sao_Paulo;VALUE=DATE-TIME:20230522T080000
DTEND;TZID=America/Sao_Paulo;VALUE=DATE-TIME:20230526T180000
DTSTAMP;VALUE=DATE-TIME:20260421T145900Z
UID:e772f47526e34df1a1af60359751dddb@150.164.76.86:8080
CREATED;VALUE=DATE-TIME:20230324T151706Z
DESCRIPTION:Entre os dia 22 a 26/05 a PRAE realizará a Feira Indígena\nO
  evento contará com a participação de coletividades indígenas debatend
 o politicas de acesso e permanência estudantil na UFMG
LAST-MODIFIED;VALUE=DATE-TIME:20230509T150601Z
URL:http://150.164.76.86:8080/cac/agenda/6897955765889823916
END:VEVENT
BEGIN:VTIMEZONE
TZID:America/Sao_Paulo
X-LIC-LOCATION:America/Sao_Paulo
BEGIN:STANDARD
DTSTART;VALUE=DATE-TIME:20230225T230000
TZNAME:BRT
TZOFFSETFROM:-0200
TZOFFSETTO:-0300
END:STANDARD
END:VTIMEZONE
END:VCALENDAR
