BEGIN:VCALENDAR
VERSION:2.0
PRODID:-//Plone.org//NONSGML plone.app.event//EN
X-WR-TIMEZONE:America/Sao_Paulo
BEGIN:VEVENT
SUMMARY:Programa de combate à Desinformação (e Conselho Universitário)
  em [ Outros espacos]
DTSTART;TZID=America/Sao_Paulo;VALUE=DATE-TIME:20220901T130000
DTEND;TZID=America/Sao_Paulo;VALUE=DATE-TIME:20220901T170000
DTSTAMP;VALUE=DATE-TIME:20260421T235234Z
UID:d0d5c3202cb94931a55445de8f4a0ff5@150.164.76.86:8080
CREATED;VALUE=DATE-TIME:20220805T182235Z
DESCRIPTION:<p>O programa de Combate à Desinformação do STF foi criado 
 para combater práticas que afetam a confiança das pessoas no Supremo\, d
 istorcem ou alteram o significado das decisões e colocam em risco direito
 s fundamentais e a estabilidade democrática. Para cumprir o objetivo\, de
 senvolvemos projetos\, ações e produtos com diversos parceiros para difu
 ndir informações corretas e explicar sobre o funcionamento e competênci
 as do tribunal de forma mais clara\, com foco em aproximar o STF da socied
 ade. A estratégia se apoia no tripé: explicar\, traduzir e humanizar\, u
 sando site\, redes sociais e TV Justiça como plataformas de relacionament
 o com o público. Eixos de atuação: I - Atuação organizacional ATUAÇ
 ÃO ORGANIZACIONAL Realização de reuniões periódicas para executar aç
 ões e monitorar os resultados do trabalho realizado pelo comitê gestor\;
  Desenvolvimento e aquisição de recursos de tecnologia da informação p
 ara identificação mais célere de práticas de desinformação e discurs
 os de ódio\; Aproximação do grupo gestor com instituições públicas e
  privadas que atuam no combate à desinformação\, órgãos de investiga
 ção\, entidades e agências de checagem que buscam solucionar o problema
  da desinformação e dos discursos de ódio\, bem como realização de ev
 entos e seminários\; AÇÕES DE COMUNICAÇÃO Alfabetização midiática:
  capacitação de servidores\, funcionários terceirizados\, jornalistas e
  influenciadores digitais para a identificação de práticas de desinform
 ação e discursos de ódio e as formas de atuação para combatê-las\; C
 ontestação de notícias falsas: publicação de notícias em página esp
 ecial denominada #VerdadesdoSTF para contestar boatos ou desmentir noticia
 s falsas sobre a Corte ou seus integrantes\; Valorização da Corte: açõ
 es constantes de comunicação\, com materiais para públicos diversos\, c
 om a finalidade de disseminar informações verdadeiras e de produzir cont
 eúdo que gere engajamentos positivos sobre o Tribunal. Roteiro: Abertura 
 com fala da reitora Fala de um representante da Secretaria de Comunicaçã
 o do Supremo Tribunal Federal Fala dos 10 coordenadores de projetos</p>
LAST-MODIFIED;VALUE=DATE-TIME:20220830T200754Z
URL:http://150.164.76.86:8080/cac/agenda/6886165661830387777
END:VEVENT
BEGIN:VTIMEZONE
TZID:America/Sao_Paulo
X-LIC-LOCATION:America/Sao_Paulo
BEGIN:STANDARD
DTSTART;VALUE=DATE-TIME:20220219T230000
TZNAME:BRT
TZOFFSETFROM:-0200
TZOFFSETTO:-0300
END:STANDARD
END:VTIMEZONE
END:VCALENDAR
