BEGIN:VCALENDAR
VERSION:2.0
PRODID:-//Plone.org//NONSGML plone.app.event//EN
X-WR-TIMEZONE:America/Sao_Paulo
BEGIN:VEVENT
SUMMARY:ASSEMBLEIA SINDIFES em [ Auditorio A102 do Cad 2]
DTSTART;TZID=America/Sao_Paulo;VALUE=DATE-TIME:20240403T090000
DTEND;TZID=America/Sao_Paulo;VALUE=DATE-TIME:20240403T180000
DTSTAMP;VALUE=DATE-TIME:20260420T031123Z
UID:08c636b559f343d5a427741f674ae3fd@150.164.76.86:8080
CREATED;VALUE=DATE-TIME:20240401T123133Z
DESCRIPTION:<p>assembleia do SINDIFES</p>
LAST-MODIFIED;VALUE=DATE-TIME:20240403T130617Z
URL:http://150.164.76.86:8080/cac/agenda/6882887565271007743
END:VEVENT
BEGIN:VTIMEZONE
TZID:America/Sao_Paulo
X-LIC-LOCATION:America/Sao_Paulo
BEGIN:STANDARD
DTSTART;VALUE=DATE-TIME:20240217T230000
TZNAME:BRT
TZOFFSETFROM:-0200
TZOFFSETTO:-0300
END:STANDARD
END:VTIMEZONE
END:VCALENDAR
