BEGIN:VCALENDAR
VERSION:2.0
PRODID:-//Plone.org//NONSGML plone.app.event//EN
X-WR-TIMEZONE:America/Sao_Paulo
BEGIN:VEVENT
SUMMARY:Cultura\, arte\, democracia e cidadania na América Latina: articu
 lação regional em [ Outros espacos]
DTSTART;TZID=America/Sao_Paulo;VALUE=DATE-TIME:20241101T160000
DTEND;TZID=America/Sao_Paulo;VALUE=DATE-TIME:20241101T180000
DTSTAMP;VALUE=DATE-TIME:20260419T163618Z
UID:730841ae7a034f4e9fde4c9b3180ad62@150.164.76.86:8080
CREATED;VALUE=DATE-TIME:20241025T185126Z
DESCRIPTION:<p><span style="text-align: left\; text-decoration-thickness: 
 initial\; text-decoration-style: initial\; text-decoration-color: initial\
 ; float: none\; ">Cultura\, arte\, democracia e cidadania na América Lati
 na: articulação regional </span></p>
LAST-MODIFIED;VALUE=DATE-TIME:20241025T185138Z
URL:http://150.164.76.86:8080/cac/agenda/6882195949946134920
END:VEVENT
BEGIN:VTIMEZONE
TZID:America/Sao_Paulo
X-LIC-LOCATION:America/Sao_Paulo
BEGIN:DAYLIGHT
DTSTART;VALUE=DATE-TIME:20241020T010000
TZNAME:BRST
TZOFFSETFROM:-0300
TZOFFSETTO:-0200
END:DAYLIGHT
END:VTIMEZONE
END:VCALENDAR
