BEGIN:VCALENDAR
VERSION:2.0
PRODID:-//Plone.org//NONSGML plone.app.event//EN
X-WR-TIMEZONE:America/Sao_Paulo
BEGIN:VEVENT
SUMMARY:Colação de Grau do IGC (Geologia e Turismo) em [ Auditorio Nobre
  do CAD 1]
DTSTART;TZID=America/Sao_Paulo;VALUE=DATE-TIME:20230803T100000
DTEND;TZID=America/Sao_Paulo;VALUE=DATE-TIME:20230803T120000
DTSTAMP;VALUE=DATE-TIME:20260421T075205Z
UID:6915742cbc4c47c8a7bbfb1dcd2981d9@150.164.76.86:8080
CREATED;VALUE=DATE-TIME:20230411T180555Z
DESCRIPTION:<p>Para a Colação de Grau dos Cursos de Geologia e Turismo p
 recisaremos da mesa de honra (confirmaremos o número de lugares em data o
 portuna) com a toalha\, uma mesa pequena de apoio com 3 cadeiras\, púlpit
 o\, bandeiras e arranjo artificial de flores\, Hino Nacional na versão or
 questrada espaço para os alunos vestirem a beca</p>
LAST-MODIFIED;VALUE=DATE-TIME:20230712T185124Z
URL:http://150.164.76.86:8080/cac/agenda/6877306938002548220
END:VEVENT
BEGIN:VTIMEZONE
TZID:America/Sao_Paulo
X-LIC-LOCATION:America/Sao_Paulo
BEGIN:STANDARD
DTSTART;VALUE=DATE-TIME:20230225T230000
TZNAME:BRT
TZOFFSETFROM:-0200
TZOFFSETTO:-0300
END:STANDARD
END:VTIMEZONE
END:VCALENDAR
