BEGIN:VCALENDAR
VERSION:2.0
PRODID:-//Plone.org//NONSGML plone.app.event//EN
X-WR-TIMEZONE:America/Sao_Paulo
BEGIN:VEVENT
SUMMARY:Presença Quilombola na UFMG em [ Outros espacos]
DTSTART;TZID=America/Sao_Paulo;VALUE=DATE-TIME:20230621T170000
DTEND;TZID=America/Sao_Paulo;VALUE=DATE-TIME:20230621T200000
DTSTAMP;VALUE=DATE-TIME:20260421T132949Z
UID:093c7e1df8b34e1da14aed5c86a39c47@150.164.76.86:8080
CREATED;VALUE=DATE-TIME:20230420T134125Z
DESCRIPTION:Mesa de abertura para debate sobre a presença quilombola na U
 FMG. Evento com a participação da Reitora.
LAST-MODIFIED;VALUE=DATE-TIME:20230612T111428Z
URL:http://150.164.76.86:8080/cac/agenda/6825366307567871756
END:VEVENT
BEGIN:VTIMEZONE
TZID:America/Sao_Paulo
X-LIC-LOCATION:America/Sao_Paulo
BEGIN:STANDARD
DTSTART;VALUE=DATE-TIME:20230225T230000
TZNAME:BRT
TZOFFSETFROM:-0200
TZOFFSETTO:-0300
END:STANDARD
END:VTIMEZONE
END:VCALENDAR
