BEGIN:VCALENDAR
VERSION:2.0
PRODID:-//Plone.org//NONSGML plone.app.event//EN
X-WR-TIMEZONE:America/Sao_Paulo
BEGIN:VEVENT
SUMMARY:Recepção de calouros em [ Saguao da Reitoria Auditorio da Reitor
 ia Gramado da Reitoria Entorno da Praca de Servicos Auditorio Nobre do CAD
  1 Auditorio 1A do CAD 1 Auditorio 2A do CAD 1 Auditorio A102 do Cad 2 Aud
 itorio A104 do Cad 2 Arena da praça de serviços Auditório B101/102 do C
 AD 3 Auditório B106 do CAD3 Auditório B107 do CAD3]
DTSTART;TZID=America/Sao_Paulo;VALUE=DATE-TIME:20220822T060000
DTEND;TZID=America/Sao_Paulo;VALUE=DATE-TIME:20220822T230000
DTSTAMP;VALUE=DATE-TIME:20260422T042255Z
UID:faa2df20f96f4e4180faa27dbd5a7167@150.164.76.86:8080
CREATED;VALUE=DATE-TIME:20220210T134321Z
DESCRIPTION:<p>Recepção de calouros</p>
LAST-MODIFIED;VALUE=DATE-TIME:20230111T201139Z
URL:http://150.164.76.86:8080/cac/agenda/6817316168482198248
END:VEVENT
BEGIN:VTIMEZONE
TZID:America/Sao_Paulo
X-LIC-LOCATION:America/Sao_Paulo
BEGIN:STANDARD
DTSTART;VALUE=DATE-TIME:20220219T230000
TZNAME:BRT
TZOFFSETFROM:-0200
TZOFFSETTO:-0300
END:STANDARD
END:VTIMEZONE
END:VCALENDAR
