BEGIN:VCALENDAR
VERSION:2.0
PRODID:-//Plone.org//NONSGML plone.app.event//EN
X-WR-TIMEZONE:America/Sao_Paulo
BEGIN:VEVENT
SUMMARY:La problemática racial en Cuba: antecedentes\, complejidades y de
 safíos em [ Auditorio A102 do Cad 2]
DTSTART;TZID=America/Sao_Paulo;VALUE=DATE-TIME:20240507T170000
DTEND;TZID=America/Sao_Paulo;VALUE=DATE-TIME:20240507T190000
DTSTAMP;VALUE=DATE-TIME:20260420T031126Z
UID:89d37a4bec1946ce86c94f8a568829b6@150.164.76.86:8080
CREATED;VALUE=DATE-TIME:20240425T140238Z
DESCRIPTION:<p>Conferencia com a pesquisadora cubana Zuleica Margarita Rom
 ay Guerra\, Directora del Programa de Estudios sobre Afroamérica na insti
 tuição Casa de las Américas\, para proferir a conferência para a comun
 idade acadêmica com o título de “La problemática racial en Cuba: ante
 cedentes\, complejidades y desafíos” Equipamentos: microfones e datasho
 w.</p>
LAST-MODIFIED;VALUE=DATE-TIME:20240426T145724Z
URL:http://150.164.76.86:8080/cac/agenda/6806434966990887974
END:VEVENT
BEGIN:VTIMEZONE
TZID:America/Sao_Paulo
X-LIC-LOCATION:America/Sao_Paulo
BEGIN:STANDARD
DTSTART;VALUE=DATE-TIME:20240217T230000
TZNAME:BRT
TZOFFSETFROM:-0200
TZOFFSETTO:-0300
END:STANDARD
END:VTIMEZONE
END:VCALENDAR
