BEGIN:VCALENDAR
VERSION:2.0
PRODID:-//Plone.org//NONSGML plone.app.event//EN
X-WR-TIMEZONE:America/Sao_Paulo
BEGIN:VEVENT
SUMMARY:APRESENTAÇÃO DO CENTRO DE COMUNICAÇÃO DA UFMG em [ Outros espa
 cos]
DTSTART;TZID=America/Sao_Paulo;VALUE=DATE-TIME:20220707T100000
DTEND;TZID=America/Sao_Paulo;VALUE=DATE-TIME:20220707T113000
DTSTAMP;VALUE=DATE-TIME:20260422T030326Z
UID:ef1850d6610b434294dec951d9f5f83a@150.164.76.86:8080
CREATED;VALUE=DATE-TIME:20220624T144452Z
DESCRIPTION:<p>Presença da reitora na abertura. - cerimonial</p>
LAST-MODIFIED;VALUE=DATE-TIME:20220705T164722Z
URL:http://150.164.76.86:8080/cac/agenda/6804360803525219997
END:VEVENT
BEGIN:VTIMEZONE
TZID:America/Sao_Paulo
X-LIC-LOCATION:America/Sao_Paulo
BEGIN:STANDARD
DTSTART;VALUE=DATE-TIME:20220219T230000
TZNAME:BRT
TZOFFSETFROM:-0200
TZOFFSETTO:-0300
END:STANDARD
END:VTIMEZONE
END:VCALENDAR
