BEGIN:VCALENDAR
VERSION:2.0
PRODID:-//Plone.org//NONSGML plone.app.event//EN
X-WR-TIMEZONE:America/Sao_Paulo
BEGIN:VEVENT
SUMMARY:Colação de Grau do IGC/UFMG em [ Auditorio Nobre do CAD 1]
DTSTART;TZID=America/Sao_Paulo;VALUE=DATE-TIME:20220817T180000
DTEND;TZID=America/Sao_Paulo;VALUE=DATE-TIME:20220817T220000
DTSTAMP;VALUE=DATE-TIME:20260422T024647Z
UID:f01c7fcd76a84a119e1a70cda0600c81@150.164.76.86:8080
CREATED;VALUE=DATE-TIME:20220514T215732Z
DESCRIPTION:<p>Colação de Grau oficial dos alunos do Instituto de Geoci
 ências: Cursos de Geografia\, Geologia e Turismo. Precisaremos do auditó
 rio com sonorização\, bandeiras\, hino nacional e telão para o clip dos
  formandos. Será preciso também de um local para que os formandos possam
  colocar suas becas.</p>
LAST-MODIFIED;VALUE=DATE-TIME:20220808T173625Z
URL:http://150.164.76.86:8080/cac/agenda/6802051983259695552
END:VEVENT
BEGIN:VTIMEZONE
TZID:America/Sao_Paulo
X-LIC-LOCATION:America/Sao_Paulo
BEGIN:STANDARD
DTSTART;VALUE=DATE-TIME:20220219T230000
TZNAME:BRT
TZOFFSETFROM:-0200
TZOFFSETTO:-0300
END:STANDARD
END:VTIMEZONE
END:VCALENDAR
