BEGIN:VCALENDAR
VERSION:2.0
PRODID:-//Plone.org//NONSGML plone.app.event//EN
X-WR-TIMEZONE:America/Sao_Paulo
BEGIN:VEVENT
SUMMARY:PICADERRÓ em [ Arena da praça de serviços]
DTSTART;TZID=America/Sao_Paulo;VALUE=DATE-TIME:20230517T173000
DTEND;TZID=America/Sao_Paulo;VALUE=DATE-TIME:20230517T190000
DTSTAMP;VALUE=DATE-TIME:20260421T133926Z
UID:0135ed4d6e13452c971ef9cf4974d27a@150.164.76.86:8080
CREATED;VALUE=DATE-TIME:20230331T002531Z
DESCRIPTION:Uso de equipamentos próprios.
LAST-MODIFIED;VALUE=DATE-TIME:20230331T135231Z
URL:http://150.164.76.86:8080/cac/agenda/6796047395364834736
END:VEVENT
BEGIN:VTIMEZONE
TZID:America/Sao_Paulo
X-LIC-LOCATION:America/Sao_Paulo
BEGIN:STANDARD
DTSTART;VALUE=DATE-TIME:20230225T230000
TZNAME:BRT
TZOFFSETFROM:-0200
TZOFFSETTO:-0300
END:STANDARD
END:VTIMEZONE
END:VCALENDAR
