BEGIN:VCALENDAR
VERSION:2.0
PRODID:-//Plone.org//NONSGML plone.app.event//EN
X-WR-TIMEZONE:America/Sao_Paulo
BEGIN:VEVENT
SUMMARY:SESSÃO PÚBLICA CPPD VAGAS MAGISTÉRIO SUPERIOR COTAS em [ Outros
  espacos]
DTSTART;TZID=America/Sao_Paulo;VALUE=DATE-TIME:20240627T090000
DTEND;TZID=America/Sao_Paulo;VALUE=DATE-TIME:20240627T100000
DTSTAMP;VALUE=DATE-TIME:20260420T012901Z
UID:b4dd126811d24429aca0cca07da9f09a@150.164.76.86:8080
CREATED;VALUE=DATE-TIME:20240611T175402Z
DESCRIPTION:sessão pública para definição das vagas reservadas a candi
 datos negros e pessoas com deficiência em concursos públicos para provim
 ento de cargos do magistério superior.\nON LINE\nPLATAFORMA ZOOM
LAST-MODIFIED;VALUE=DATE-TIME:20240612T164221Z
URL:http://150.164.76.86:8080/cac/agenda/6791039205359858951
END:VEVENT
BEGIN:VTIMEZONE
TZID:America/Sao_Paulo
X-LIC-LOCATION:America/Sao_Paulo
BEGIN:STANDARD
DTSTART;VALUE=DATE-TIME:20240217T230000
TZNAME:BRT
TZOFFSETFROM:-0200
TZOFFSETTO:-0300
END:STANDARD
END:VTIMEZONE
END:VCALENDAR
