BEGIN:VCALENDAR
VERSION:2.0
PRODID:-//Plone.org//NONSGML plone.app.event//EN
X-WR-TIMEZONE:America/Sao_Paulo
BEGIN:VEVENT
SUMMARY:concurso da FUMARC em [ Auditório B301 do CAD 3 Auditório B302 d
 o CAD 3 Outros espacos Auditorio A102 do Cad 2 Auditorio A104 do Cad 2 Aud
 itorio Nobre do CAD 1 Auditorio 1A do CAD 1 Auditorio 2A do CAD 1]
DTSTART;TZID=America/Sao_Paulo;VALUE=DATE-TIME:20230204T070000
DTEND;TZID=America/Sao_Paulo;VALUE=DATE-TIME:20230205T080000
DTSTAMP;VALUE=DATE-TIME:20260421T163514Z
UID:a3457cc59ced46cf9b8cd4da7140f3db@150.164.76.86:8080
CREATED;VALUE=DATE-TIME:20221129T165707Z
DESCRIPTION:<p>Reserva destinada aos  CADs 1\, 2 e 3.</p>
LAST-MODIFIED;VALUE=DATE-TIME:20221227T123709Z
URL:http://150.164.76.86:8080/cac/agenda/6788340234153070783
END:VEVENT
BEGIN:VTIMEZONE
TZID:America/Sao_Paulo
X-LIC-LOCATION:America/Sao_Paulo
BEGIN:DAYLIGHT
DTSTART;VALUE=DATE-TIME:20221016T010000
TZNAME:BRST
TZOFFSETFROM:-0300
TZOFFSETTO:-0200
END:DAYLIGHT
END:VTIMEZONE
END:VCALENDAR
