BEGIN:VCALENDAR
VERSION:2.0
PRODID:-//Plone.org//NONSGML plone.app.event//EN
X-WR-TIMEZONE:America/Sao_Paulo
BEGIN:VEVENT
SUMMARY:IV Encontro de Primavera da Sociedade Brasileira de Física em [ A
 uditório B101/102 do CAD 3 Auditório B106 do CAD3 Auditório B107 do CAD
 3]
DTSTART;TZID=America/Sao_Paulo;VALUE=DATE-TIME:20240923T080000
DTEND;TZID=America/Sao_Paulo;VALUE=DATE-TIME:20240927T210000
DTSTAMP;VALUE=DATE-TIME:20260419T205546Z
UID:4ad6df28925c466082a95f854c3a6957@150.164.76.86:8080
CREATED;VALUE=DATE-TIME:20231009T151750Z
DESCRIPTION:<p>Encontro de Primavera da Sociedade Brasileira de Física\, 
 que reúne as comunidades de física de altas energias\, astropartículas\
 , cosmologia/gravitação e física nuclear\, tanto experimentais quanto t
 eóricas. Serão necessários projetor\, computador e sistema de áudio (m
 icrofone e alto-falantes). O evento iniciará na segunda-feira\, 23 de Set
 embro de 2024\, às 08:00hs\, e durará uma semana\, concluindo na sexta-f
 eira\, 27 de setembro de 2024\, às 21:00hs.</p>
LAST-MODIFIED;VALUE=DATE-TIME:20240716T182343Z
URL:http://150.164.76.86:8080/cac/agenda/6784127089263053082
END:VEVENT
BEGIN:VTIMEZONE
TZID:America/Sao_Paulo
X-LIC-LOCATION:America/Sao_Paulo
BEGIN:STANDARD
DTSTART;VALUE=DATE-TIME:20240217T230000
TZNAME:BRT
TZOFFSETFROM:-0200
TZOFFSETTO:-0300
END:STANDARD
END:VTIMEZONE
END:VCALENDAR
