BEGIN:VCALENDAR
VERSION:2.0
PRODID:-//Plone.org//NONSGML plone.app.event//EN
X-WR-TIMEZONE:America/Sao_Paulo
BEGIN:VEVENT
SUMMARY:SciBioSus 2023 (2nd International Congress on Science\, Biodiversi
 ty and Sustainability). em [ Auditório B101/102 do CAD 3 Auditório B106 
 do CAD3 Outros espacos Auditorio da Reitoria Auditório B107 do CAD3 Audit
 orio Nobre do CAD 1 Entorno da Praca de Servicos]
DTSTART;TZID=America/Sao_Paulo;VALUE=DATE-TIME:20230604T073000
DTEND;TZID=America/Sao_Paulo;VALUE=DATE-TIME:20230607T213000
DTSTAMP;VALUE=DATE-TIME:20260421T160940Z
UID:a43bd87b4c62462e9bfbb51906655f7a@150.164.76.86:8080
CREATED;VALUE=DATE-TIME:20221118T181746Z
DESCRIPTION:<p>04/06/2023: Abertura no auditório da Reitoria pela Profa. 
 Sandra(16-20 h) 04\, 05\, 06 e 07/06/2023: Auditórios B101\, B102\, B106 
 e B107\, saguão térreo e do primeiro andar\, área de pôsteres e cantin
 a do CAD3 - Tipo do evento: Congresso internacional - A previsão de públ
 ico para o evento: 600 pessoas (brasileiros e estrangeiros) - Os horários
  de início e término do evento\, em todos os dias: 07:30-21 h - Dados do
  solicitante: Jacqueline Aparecida Takahashi/PRPq - Descrição do evento:
  Informe os equipamentos\, os serviços necessários e a programação do 
 evento. Paineis para pôsteres\, microfones fixos e sem fio\, som\, suport
 es para cartazes\, toalhas de mesa\, bandeiras. Programação: 04/06: 10 h
 : Inscrições\; 13 h: Mini-cursos\; 17 h: Abertura (Profa. Sandra)\; 18 h
 : Conferência 19 h: Coffee break 05 e 06/06: 8:30h: Apresentações orais
  e de pôsteres\; 9:30 h: Palestra 10:30: Coffee break\; 11:00: Mesa redon
 da\; 12:30h: Almoço\; 13:45 h: Momento cultural 14 h: Palestras e Sessõe
 s temáticas\; 16h: Coffee break\; 18 h: Apresentações orais e de pôste
 res 07/06: 8:30 h: Apresentações orais\; 1 0:30 h: Coffee break\; 11:00:
  Mesa redonda\; 12:30h: Almoço\; 14 h: Palestra de encerramento e premia
 ções A programação final detalhada estará disponível em fevereiro de
  2023.</p>
LAST-MODIFIED;VALUE=DATE-TIME:20230522T153542Z
URL:http://150.164.76.86:8080/cac/agenda/6780663929246435265
END:VEVENT
BEGIN:VTIMEZONE
TZID:America/Sao_Paulo
X-LIC-LOCATION:America/Sao_Paulo
BEGIN:STANDARD
DTSTART;VALUE=DATE-TIME:20230225T230000
TZNAME:BRT
TZOFFSETFROM:-0200
TZOFFSETTO:-0300
END:STANDARD
END:VTIMEZONE
END:VCALENDAR
