BEGIN:VCALENDAR
VERSION:2.0
PRODID:-//Plone.org//NONSGML plone.app.event//EN
X-WR-TIMEZONE:America/Sao_Paulo
BEGIN:VEVENT
SUMMARY:Abertura oficial das comemorações do Centenário da Escola de M
 úsica em [ Outros espacos]
DTSTART;TZID=America/Sao_Paulo;VALUE=DATE-TIME:20241106T173000
DTEND;TZID=America/Sao_Paulo;VALUE=DATE-TIME:20241106T193000
DTSTAMP;VALUE=DATE-TIME:20260419T175500Z
UID:ecb3e8ec2b9142749a546f997fb431ed@150.164.76.86:8080
CREATED;VALUE=DATE-TIME:20241014T201853Z
DESCRIPTION:<p><span style="text-align: left\; text-decoration-thickness: 
 initial\; text-decoration-style: initial\; text-decoration-color: initial\
 ; float: none\; ">Abertura oficial das comemorações do Centenário da Es
 cola de Música</span></p>
LAST-MODIFIED;VALUE=DATE-TIME:20241014T201906Z
URL:http://150.164.76.86:8080/cac/agenda/6776786192285530393
END:VEVENT
BEGIN:VTIMEZONE
TZID:America/Sao_Paulo
X-LIC-LOCATION:America/Sao_Paulo
BEGIN:DAYLIGHT
DTSTART;VALUE=DATE-TIME:20241020T010000
TZNAME:BRST
TZOFFSETFROM:-0300
TZOFFSETTO:-0200
END:DAYLIGHT
END:VTIMEZONE
END:VCALENDAR
