BEGIN:VCALENDAR
VERSION:2.0
PRODID:-//Plone.org//NONSGML plone.app.event//EN
X-WR-TIMEZONE:America/Sao_Paulo
BEGIN:VEVENT
SUMMARY:Reunião do Colégio Eleitoral UFMG em [ Auditorio da Reitoria Aud
 itorio Nobre do CAD 1]
DTSTART;TZID=America/Sao_Paulo;VALUE=DATE-TIME:20211123T140000
DTEND;TZID=America/Sao_Paulo;VALUE=DATE-TIME:20211123T160000
DTSTAMP;VALUE=DATE-TIME:20260424T003503Z
UID:85e026a5646c47c89a93cadd24f1f8b1@150.164.76.86:8080
CREATED;VALUE=DATE-TIME:20210927T202011Z
DESCRIPTION:<p><span>Solicito-lhe a gentileza de reservar os auditórios d
 a Reitoria e do CAD 1\, no dia 23 de novembro\, às 14:00 horas\, para fin
 s de reunião do Colégio Eleitoral</span></p>
LAST-MODIFIED;VALUE=DATE-TIME:20210927T202047Z
URL:http://150.164.76.86:8080/cac/agenda/677392916191777135
END:VEVENT
BEGIN:VTIMEZONE
TZID:America/Sao_Paulo
X-LIC-LOCATION:America/Sao_Paulo
BEGIN:DAYLIGHT
DTSTART;VALUE=DATE-TIME:20211017T010000
TZNAME:BRST
TZOFFSETFROM:-0300
TZOFFSETTO:-0200
END:DAYLIGHT
END:VTIMEZONE
END:VCALENDAR
