BEGIN:VCALENDAR
VERSION:2.0
PRODID:-//Plone.org//NONSGML plone.app.event//EN
X-WR-TIMEZONE:America/Sao_Paulo
BEGIN:VEVENT
SUMMARY:Palestra - Mestrado e doutorado: o que esses cursos vão exigir de
  mim? Ciclo de Palestras EPP em [ Auditorio A104 do Cad 2]
DTSTART;TZID=America/Sao_Paulo;VALUE=DATE-TIME:20241002T140000
DTEND;TZID=America/Sao_Paulo;VALUE=DATE-TIME:20241002T160000
DTSTAMP;VALUE=DATE-TIME:20260419T192113Z
UID:d35bb82ba78543548931e090af02804a@150.164.76.86:8080
CREATED;VALUE=DATE-TIME:20240305T131138Z
DESCRIPTION:<p>A ação faz parte do Ciclo de palestras preparatórias par
 a o curso de Elaboração de Projetos de Pesquisa. Faz parte do Plano de D
 esenvolvimento de Pessoas da UFMG 2024 e necessita de transmissão ao vivo
 .</p>
LAST-MODIFIED;VALUE=DATE-TIME:20240912T175024Z
URL:http://150.164.76.86:8080/cac/agenda/6744716596013608761
END:VEVENT
BEGIN:VTIMEZONE
TZID:America/Sao_Paulo
X-LIC-LOCATION:America/Sao_Paulo
BEGIN:STANDARD
DTSTART;VALUE=DATE-TIME:20240217T230000
TZNAME:BRT
TZOFFSETFROM:-0200
TZOFFSETTO:-0300
END:STANDARD
END:VTIMEZONE
END:VCALENDAR
