BEGIN:VCALENDAR
VERSION:2.0
PRODID:-//Plone.org//NONSGML plone.app.event//EN
X-WR-TIMEZONE:America/Sao_Paulo
BEGIN:VEVENT
SUMMARY:IX Curso de Verão em Bioinformática da UFMG (CVB25) em [ Auditor
 io Nobre do CAD 1]
DTSTART;TZID=America/Sao_Paulo;VALUE=DATE-TIME:20250317T080000
DTEND;TZID=America/Sao_Paulo;VALUE=DATE-TIME:20250321T170000
DTSTAMP;VALUE=DATE-TIME:20260419T115916Z
UID:1dd4202e69b54103a932ad456a4ece75@150.164.76.86:8080
CREATED;VALUE=DATE-TIME:20241126T135236Z
DESCRIPTION:Prezados(as).\n\nIremos precisar de 01 projetor (caso o Audit
 ório não tenha)\, microfone e caixa de som.\n\nDia 1. Abertura do evento
 . Palestra do Coordenador do PPG Bioinformática\n\nDia 2. Introdução a 
 GNU/Linux\, Introdução à linguagem R e Visualização de dados em R.\n\
 nDia 3. Cursos de Transcriptômica \, Introdução à programação e Dete
 cção de variantes. \n\nDia 4. Cursos de Genômica e Evolução\, Docking
  e Proteogenômica. \n\nDia 5. Encerramento do evento. Cursos de Metagenô
 mica\, Montagem e análise de genomas e Dinâmica molecular.\n\nAtenciosam
 ente\,
LAST-MODIFIED;VALUE=DATE-TIME:20241126T141122Z
URL:http://150.164.76.86:8080/cac/agenda/674041085694096983
END:VEVENT
BEGIN:VTIMEZONE
TZID:America/Sao_Paulo
X-LIC-LOCATION:America/Sao_Paulo
BEGIN:STANDARD
DTSTART;VALUE=DATE-TIME:20250215T230000
TZNAME:BRT
TZOFFSETFROM:-0200
TZOFFSETTO:-0300
END:STANDARD
END:VTIMEZONE
END:VCALENDAR
